BEGIN:VCALENDAR
VERSION:2.0
PRODID:-//Instituto Acton - ECPv6.15.14//NONSGML v1.0//EN
CALSCALE:GREGORIAN
METHOD:PUBLISH
X-ORIGINAL-URL:https://institutoacton.org
X-WR-CALDESC:Eventos para Instituto Acton
REFRESH-INTERVAL;VALUE=DURATION:PT1H
X-Robots-Tag:noindex
X-PUBLISHED-TTL:PT1H
BEGIN:VTIMEZONE
TZID:America/Argentina/Buenos_Aires
BEGIN:STANDARD
TZOFFSETFROM:-0300
TZOFFSETTO:-0300
TZNAME:-03
DTSTART:20180101T000000
END:STANDARD
END:VTIMEZONE
BEGIN:VEVENT
DTSTART;TZID=America/Argentina/Buenos_Aires:20191109T090000
DTEND;TZID=America/Argentina/Buenos_Aires:20191109T170000
DTSTAMP:20260421T154227
CREATED:20191219T202053Z
LAST-MODIFIED:20191219T202053Z
UID:28091-1573290000-1573318800@institutoacton.org
SUMMARY:Poverty University
DESCRIPTION:Los invitamos a compartir una jornada sobre el drama de la pobreza y el desarrollo humano integral. \n \n  \n  \n  \n  \n  \n  \n 
URL:https://institutoacton.org/event/poverty-university/
LOCATION:Universidad del Norte Santo Tomás de Aquino\, Nueve de Julio 165\, San Miguel de Tucumán\, Tucumán\, Argentina
ATTACH;FMTTYPE=image/jpeg:https://institutoacton.org/wp-content/uploads/2019/12/povertycure.jpg
END:VEVENT
END:VCALENDAR