BEGIN:VCALENDAR
VERSION:2.0
PRODID:-//Instituto Acton - ECPv6.15.14//NONSGML v1.0//EN
CALSCALE:GREGORIAN
METHOD:PUBLISH
X-ORIGINAL-URL:https://institutoacton.org
X-WR-CALDESC:Eventos para Instituto Acton
REFRESH-INTERVAL;VALUE=DURATION:PT1H
X-Robots-Tag:noindex
X-PUBLISHED-TTL:PT1H
BEGIN:VTIMEZONE
TZID:America/Argentina/Buenos_Aires
BEGIN:STANDARD
TZOFFSETFROM:-0300
TZOFFSETTO:-0300
TZNAME:-03
DTSTART:20190101T000000
END:STANDARD
END:VTIMEZONE
BEGIN:VEVENT
DTSTART;TZID=America/Argentina/Buenos_Aires:20200918T180000
DTEND;TZID=America/Argentina/Buenos_Aires:20200918T180000
DTSTAMP:20260421T000702
CREATED:20200916T202205Z
LAST-MODIFIED:20200916T204707Z
UID:28898-1600452000-1600452000@institutoacton.org
SUMMARY:¿Por qué rezar? - Actividad recomendada
DESCRIPTION:Recomendamos esta actividad organizada por Revista Criterio
URL:https://institutoacton.org/event/por-que-rezar-actividad-recomendada/
ATTACH;FMTTYPE=image/png:https://institutoacton.org/wp-content/uploads/2020/09/los-fundamentos-cristianos-de-la-civilización-occidental-41.png
END:VEVENT
END:VCALENDAR