BEGIN:VCALENDAR
VERSION:2.0
PRODID:-//Instituto Acton - ECPv6.15.14//NONSGML v1.0//EN
CALSCALE:GREGORIAN
METHOD:PUBLISH
X-ORIGINAL-URL:https://institutoacton.org
X-WR-CALDESC:Eventos para Instituto Acton
REFRESH-INTERVAL;VALUE=DURATION:PT1H
X-Robots-Tag:noindex
X-PUBLISHED-TTL:PT1H
BEGIN:VTIMEZONE
TZID:America/Argentina/Buenos_Aires
BEGIN:STANDARD
TZOFFSETFROM:-0300
TZOFFSETTO:-0300
TZNAME:-03
DTSTART:20200101T000000
END:STANDARD
END:VTIMEZONE
BEGIN:VEVENT
DTSTART;VALUE=DATE:20210303
DTEND;VALUE=DATE:20210305
DTSTAMP:20260420T113408
CREATED:20210302T152753Z
LAST-MODIFIED:20210302T152813Z
UID:29331-1614729600-1614902399@institutoacton.org
SUMMARY:LibertyCon
DESCRIPTION:Compartimos este evento\, del que participará nuestro Director Académico\, el Prof. Gabriel Zanotti. \nPara más información\, INGRESAR AQUÍ. \n 
URL:https://institutoacton.org/event/libertycon/
ATTACH;FMTTYPE=image/jpeg:https://institutoacton.org/wp-content/uploads/2021/03/002-LC-2021-Arte-para-correos.jpg
END:VEVENT
END:VCALENDAR