BEGIN:VCALENDAR
VERSION:2.0
PRODID:-//Instituto Acton - ECPv6.15.14//NONSGML v1.0//EN
CALSCALE:GREGORIAN
METHOD:PUBLISH
X-ORIGINAL-URL:https://institutoacton.org
X-WR-CALDESC:Eventos para Instituto Acton
REFRESH-INTERVAL;VALUE=DURATION:PT1H
X-Robots-Tag:noindex
X-PUBLISHED-TTL:PT1H
BEGIN:VTIMEZONE
TZID:America/Argentina/Buenos_Aires
BEGIN:STANDARD
TZOFFSETFROM:-0300
TZOFFSETTO:-0300
TZNAME:-03
DTSTART:20200101T000000
END:STANDARD
END:VTIMEZONE
BEGIN:VEVENT
DTSTART;TZID=America/Argentina/Buenos_Aires:20210323T190000
DTEND;TZID=America/Argentina/Buenos_Aires:20210323T200000
DTSTAMP:20260420T100807
CREATED:20210317T213804Z
LAST-MODIFIED:20210317T213908Z
UID:29350-1616526000-1616529600@institutoacton.org
SUMMARY:De la dignidad humana al desarrollo humano integral
DESCRIPTION:Los invitamos a una nueva presentación de PovertyCure: \nDe la dignidad humana al desarrollo humano integral\nPOVERTYCURE y el caso de Akamasoa Argentina \nGustavo Hasperué\, presidente del consejo consultivo del Instituto Acton\nGastón Vigo\, presidente de Akamasoa Argentina \nPARA AGENDAR:\nMartes 23 de marzo – 19:00 (hora Argentina)
URL:https://institutoacton.org/event/de-la-dignidad-humana-al-desarrollo-humano-integral/
ATTACH;FMTTYPE=image/png:https://institutoacton.org/wp-content/uploads/2021/03/los-fundamentos-cristianos-de-la-civilizacion-occidental.png
END:VEVENT
END:VCALENDAR