BEGIN:VCALENDAR
VERSION:2.0
PRODID:-//Instituto Acton - ECPv6.15.14//NONSGML v1.0//EN
CALSCALE:GREGORIAN
METHOD:PUBLISH
X-WR-CALNAME:Instituto Acton
X-ORIGINAL-URL:https://institutoacton.org
X-WR-CALDESC:Eventos para Instituto Acton
REFRESH-INTERVAL;VALUE=DURATION:PT1H
X-Robots-Tag:noindex
X-PUBLISHED-TTL:PT1H
BEGIN:VTIMEZONE
TZID:America/Argentina/Buenos_Aires
BEGIN:STANDARD
TZOFFSETFROM:-0300
TZOFFSETTO:-0300
TZNAME:-03
DTSTART:20180101T000000
END:STANDARD
END:VTIMEZONE
BEGIN:VEVENT
DTSTART;TZID=America/Argentina/Buenos_Aires:20191109T090000
DTEND;TZID=America/Argentina/Buenos_Aires:20191109T170000
DTSTAMP:20260421T223524
CREATED:20191219T202053Z
LAST-MODIFIED:20191219T202053Z
UID:28091-1573290000-1573318800@institutoacton.org
SUMMARY:Poverty University
DESCRIPTION:Los invitamos a compartir una jornada sobre el drama de la pobreza y el desarrollo humano integral. \n \n  \n  \n  \n  \n  \n  \n 
URL:https://institutoacton.org/event/poverty-university/
LOCATION:Universidad del Norte Santo Tomás de Aquino\, Nueve de Julio 165\, San Miguel de Tucumán\, Tucumán\, Argentina
ATTACH;FMTTYPE=image/jpeg:https://institutoacton.org/wp-content/uploads/2019/12/povertycure.jpg
END:VEVENT
BEGIN:VEVENT
DTSTART;TZID=America/Argentina/Buenos_Aires:20200227T190000
DTEND;TZID=America/Argentina/Buenos_Aires:20200227T190000
DTSTAMP:20260421T223524
CREATED:20200212T215341Z
LAST-MODIFIED:20200219T200302Z
UID:28363-1582830000-1582830000@institutoacton.org
SUMMARY:POBREZA\, S.A.
DESCRIPTION:  \nProyección de la película Pobreza\, S.A. \nINSCRIBIRME AQUÍ \nVER TRAILER \n \n  \n  \n  \n  \n  \n  \n  \n  \n  \n  \n  \n  \n  \n  \n  \n  \n  \n  \n  \n  \n  \n  \n  \n  \n 
URL:https://institutoacton.org/event/pobreza-s-a/
LOCATION:ESEADE\, Uriarte 2472\, Buenos Aires\, C1425FNJ\, Argentina
ATTACH;FMTTYPE=image/jpeg:https://institutoacton.org/wp-content/uploads/2020/02/Photo-Op-1-POVERTYINC-1.jpg
END:VEVENT
BEGIN:VEVENT
DTSTART;TZID=America/Argentina/Buenos_Aires:20200310T190000
DTEND;TZID=America/Argentina/Buenos_Aires:20200310T190000
DTSTAMP:20260421T223524
CREATED:20200211T190033Z
LAST-MODIFIED:20200219T213412Z
UID:28350-1583866800-1583866800@institutoacton.org
SUMMARY:EVENTO RECOMENDADO: Presentación del libro "En desequilibrio"
DESCRIPTION:Recomendamos esta presentación del libro \nEn desequilibrio\nEnsayos sobre procesos de mercado \nPresentado por su autor: Ivo Sarjanovic \nComentado por Gabriel Zanotti e Iván Carrino \n \nEn desequilibrio es una colección de ensayos que buscan determinar\, desde la perspectiva de la Escuela Austriaca de Economía\, si existe o no una tendencia en el mercado libre a alcanzar un estado de equilibrio general. Su autor\, Ivo A. Sarjanovic\, analiza detalladamente la evolución del debate entre Israel Kirzner\, Ludwig Lachmann y sus respectivos seguidores desde sus inicios en la década del 70 del siglo XX hasta nuestros días. \nDesde un enfoque de procesos de mercado\, se examinan tanto el rol del empresario y su crucial impacto en el surgimiento de los precios y otras instituciones\, como el efecto que tiene una moneda en desequilibrio natural\, por causas endógenas al mercado\, en el funcionamiento de la economía. Además\, uno de los ensayos presenta un nuevo aporte empírico al aplicar la teoría austriaca al estudio de los mercados de commodities agrícolas. \nCon su propuesta en el campo de la epistemología\, el autor sugiere integrar las contribuciones de Karl Popper con el objetivo de poder elaborar una metodología más robusta. En este sentido\, Sarjanovic procura hacer el esfuerzo de abandonar toda forma de dogmatismo\, postura que afecta incluso a algunas vertientes de la Escuela Austriaca\, y abrazar más que nunca la ética y la práctica del racionalismo crítico.
URL:https://institutoacton.org/event/presentacion-del-libro-en-desequilibrio-ensayos-sobre-procesos-de-mercado-ivo-sarjonovic/
LOCATION:ESEADE\, Uriarte 2472\, Buenos Aires\, C1425FNJ\, Argentina
ATTACH;FMTTYPE=image/jpeg:https://institutoacton.org/wp-content/uploads/2020/02/Boceto-Tapa_BLBM-40-Sarjanovic_page-0001.jpg
END:VEVENT
BEGIN:VEVENT
DTSTART;TZID=America/Argentina/Buenos_Aires:20200317T183000
DTEND;TZID=America/Argentina/Buenos_Aires:20200317T183000
DTSTAMP:20260421T223524
CREATED:20200219T182016Z
LAST-MODIFIED:20200219T213531Z
UID:28381-1584469800-1584469800@institutoacton.org
SUMMARY:Solzhenitsyn y la revolución
DESCRIPTION:
URL:https://institutoacton.org/event/solzhenitsyn-y-la-revolucion/
LOCATION:Universidad Austral\, Cerrito 1250\, Buenos Aires\, Argentina
ATTACH;FMTTYPE=image/jpeg:https://institutoacton.org/wp-content/uploads/2020/02/SolzhenitsynGA123-770x433.jpg
END:VEVENT
BEGIN:VEVENT
DTSTART;TZID=America/Argentina/Buenos_Aires:20200331T183000
DTEND;TZID=America/Argentina/Buenos_Aires:20200331T183000
DTSTAMP:20260421T223524
CREATED:20200219T200941Z
LAST-MODIFIED:20200219T201229Z
UID:28399-1585679400-1585679400@institutoacton.org
SUMMARY:"Vivir en la presencia del Señor": una aproximación a la vida y espiritualidad de J. H. Newman
DESCRIPTION:  \n \n  \n \n  \n  \n  \n 
URL:https://institutoacton.org/event/vivir-en-la-presencia-del-senor-una-aproximacion-a-la-vida-y-espiritualidad-de-j-h-newman/
LOCATION:Universidad Austral\, Cerrito 1250\, Buenos Aires\, Argentina
ATTACH;FMTTYPE=image/jpeg:https://institutoacton.org/wp-content/uploads/2019/07/newman.jpg
END:VEVENT
BEGIN:VEVENT
DTSTART;TZID=America/Argentina/Buenos_Aires:20200421T183000
DTEND;TZID=America/Argentina/Buenos_Aires:20200421T183000
DTSTAMP:20260421T223524
CREATED:20200414T150211Z
LAST-MODIFIED:20200420T170024Z
UID:28572-1587493800-1587493800@institutoacton.org
SUMMARY:Cátedra Acton: Tiempo de subsidiariedad
DESCRIPTION:  \n¡VUELVE CÁTEDRA ACTON!\nY vamos con delivery a tu casa… \nEmpezamos el martes 21 de abril a las 18:30: \nTiempo de subsidiariedad\ncon Gabriel Zanotti \nNos conectaremos vía Zoom.\nPara recibir el link a la conferencia\, inscribite aquí: \n \n  \n  \n  \n 
URL:https://institutoacton.org/event/catedra-acton-tiempo-de-subsidiariedad/
ATTACH;FMTTYPE=image/png:https://institutoacton.org/wp-content/uploads/2020/04/los-fundamentos-cristianos-de-la-civilización-occidental-29.png
END:VEVENT
BEGIN:VEVENT
DTSTART;VALUE=DATE:20200430
DTEND;VALUE=DATE:20200522
DTSTAMP:20260421T223524
CREATED:20200423T183856Z
LAST-MODIFIED:20200427T201505Z
UID:28587-1588204800-1590105599@institutoacton.org
SUMMARY:Curso virtual: Raíces de la filosofía occidental
DESCRIPTION:  \n¡NUEVO CURSO VIRTUAL DE FILOSOFÍA! \nRAÍCES DE LA FILOSOFÍA OCCIDENTAL\nDesde los griegos hasta la Edad Media \ncon Gabriel Zanotti \n4 encuentros: Jueves 30/4\, 7/5\, 14/5\, 21/5\n18:30 \nInscribite aquí y te enviaremos la información para participar: \n \n  \nPROGRAMA \nClase 1 – 30/4\nEl mundo de Parménides\n¿Es el ser uno\, eterno e imbancable??? \n  \nClase 2 – 7/5\nLa gran transformación\n– El legado de la filosofía antigua\n– El encuentro con el cristianismo: ¿choque o síntesis? \n  \nClase 3 – 14/5\nLa gran síntesis de San Agustín\nLos elementos básicos de una filosofía cristiana \n  \nClase 4 – 21/5\n¿Santo Tomas es de aquí? ¡No!\nSanto Tomás\, el agustinista aristotélico. \n  \nCOSTO: A la gorra -si podés- \nCON VISA CRÉDITO/DÉBITO \nPOR TRANSFERENCIA\nAsociación Civil Instituto Acton Argentina\nBanco: Santander Río\nCBU: 0720196320000000321772 \n  \nTe invitamos a compartir el flyer del evento con quien quieras: \n 
URL:https://institutoacton.org/event/28587/
ATTACH;FMTTYPE=image/png:https://institutoacton.org/wp-content/uploads/2020/04/los-fundamentos-cristianos-de-la-civilización-occidental-32.png
END:VEVENT
BEGIN:VEVENT
DTSTART;TZID=America/Argentina/Buenos_Aires:20200519T183000
DTEND;TZID=America/Argentina/Buenos_Aires:20200519T193000
DTSTAMP:20260421T223524
CREATED:20200514T203241Z
LAST-MODIFIED:20200514T203433Z
UID:28665-1589913000-1589916600@institutoacton.org
SUMMARY:El tiempo presente a la luz de la fe y la libertad religiosa
DESCRIPTION:Los invitamos a sumarte a nuestras conversaciones online. \nEste martes 19/5 a las 18:30 \nGustavo Hasperué\, Gustavo Irrazábal y Cecilia Vázquez Ger dialogarán sobre: \n«El tiempo presente a la luz de la fe y la libertad religiosa» \nPodés verlo vía Facebook Live en nuestra página de Facebook: facebook.com/InstitutoActon \n¡Te esperamos!
URL:https://institutoacton.org/event/el-tiempo-presente-a-la-luz-de-la-fe-y-la-libertad-religiosa/
ATTACH;FMTTYPE=image/png:https://institutoacton.org/wp-content/uploads/2020/05/El-tiempo-presente-a-la-luz-de-la-fe-y-la-libertad-religiosa-1.png
END:VEVENT
BEGIN:VEVENT
DTSTART;TZID=America/Argentina/Buenos_Aires:20200520T123000
DTEND;TZID=America/Argentina/Buenos_Aires:20200520T133000
DTSTAMP:20260421T223524
CREATED:20200514T200010Z
LAST-MODIFIED:20200514T200010Z
UID:28658-1589977800-1589981400@institutoacton.org
SUMMARY:Evento recomendado: Las tres etapas de la política educativa según Luis J. Zanotti y su importancia para el mundo actual
DESCRIPTION:Recomendamos este evento organizado por UCEMA \nMiércoles 20 de mayo\, 12.30 h.\nLas tres etapas de la política educativa según Luis J. Zanotti y su importancia para el mundo actual\nGabriel Zanotti\nLuis J. Zanotti distinguió 3 etapas en la política educativa: la escuela redentora del s. XIX\, el movimiento de la «Escuela Nueva»\, y las nuevas «tecnologías de la información»\, ya en 1972. Es importante recordarlas para entender este singular presente y pensar sobre los retos del futuro. \nINSCRIPCIÓN SIN COSTO AQUÍ \nEXPOSITOR\n\n\n\nGabriel J. Zanotti\nDoctor en Filosofía por UCA y Licenciado en Filosofía por la UNSTA. Actualmente da clases en la Universidad Austral\, en el Cema y en Eseade\, y dirige su propio seminario de filosofía en la Parroquia San Rafael Arcángel. Es autor de libros y artículos en su especialidad y recientemente ha publicado “Libertad de enseñanza y pedagogía dialógica” en el Instituto Acton. Es profesor visitante de la Universidad Francisco Marroquín.\n\n\n\nDuración aproximada: 90 minutos.
URL:https://institutoacton.org/event/evento-recomendado-las-tres-etapas-de-la-politica-educativa-segun-luis-j-zanotti-y-su-importancia-para-el-mundo-actual/
ATTACH;FMTTYPE=image/jpeg:https://institutoacton.org/wp-content/uploads/2020/05/unnamed-1.jpg
END:VEVENT
BEGIN:VEVENT
DTSTART;TZID=America/Argentina/Buenos_Aires:20200602T183000
DTEND;TZID=America/Argentina/Buenos_Aires:20200602T183000
DTSTAMP:20260421T223524
CREATED:20200601T174759Z
LAST-MODIFIED:20200601T175558Z
UID:28680-1591122600-1591122600@institutoacton.org
SUMMARY:Libertades individuales: un objetivista y un católico
DESCRIPTION:¡Nuevo conversatorio online! \nLos esperamos el martes 2 de junio a las 18:30 (ART) \nen nuestra página de Fácebook
URL:https://institutoacton.org/event/libertades-individuales-un-objetivista-y-un-catolico-conversaciones-online/
ATTACH;FMTTYPE=image/png:https://institutoacton.org/wp-content/uploads/2020/06/los-fundamentos-cristianos-de-la-civilización-occidental-34.png
END:VEVENT
BEGIN:VEVENT
DTSTART;TZID=America/Argentina/Buenos_Aires:20200616T183000
DTEND;TZID=America/Argentina/Buenos_Aires:20200721T200000
DTSTAMP:20260421T223524
CREATED:20200609T142715Z
LAST-MODIFIED:20200609T142715Z
UID:28690-1592332200-1595361600@institutoacton.org
SUMMARY:Curso "Economía para no economistas"
DESCRIPTION:¡Te invitamos a sumarte a este nuevo curso del Instituto Acton! \n \n  \n  \n  \n  \n \n  \n  \n  \n  \n  \n  \n  \n  \n  \n  \n  \n  \n  \n  \n  \n  \nPROGRAMA POR CLASE:  \n\nLa Historia de la Escuela Austríaca (16 de junio\, Prof. Gabriel Zanotti)\n\n1.1. Megner \n1.2. Bohm-Bawerk \n1.3. Mises \n1.4. Hayek \n1.5. Kirzner y Rothbard \n  \n\nProblemas filosóficos de la Escuela Austríaca (23 de junio\, Prof. Gabriel Zanotti)\n\n2.1. Menger\, aristotélico. \n2.2. Mises y su “Praxeología” \n2.3. Hayek y su “orden espontáneo” \n2.4. Lo que puede aportar Santo Tomás \n  \n\nHayek y la teoría del mercado como proceso (30 de junio\, Prof. Gabriel Zanotti)\n\n3.1. El conocimiento disperso \n3.2. Los precios \n3.3. Las críticas a la «competencia perfecta» \n  \n\nLo fundamental: la teoría subjetiva del valor (7 de julio\, Prof. Gabriel Zanotti)\n\n4.1. Valor objetivo y subjetivo \n4.2. La utilidad marginal decreciente \n4.3. Bienes de consumo y de producción \n4.4. La imputación del valor de los bienes de consumo a los de producción \n  \n\nMoneda y mercado de capitales (14 de julio\, Prof. Adrián Ravier)\n\n5.1. La moneda\, otro bien en el mercado \n5.2. Los medios fiduciarios y la expansión crediticia \n5.3. La inflación \n  \n\nLa importancia de los bienes de capital (21 de julio\, Prof. Adrián Ravier)\n\n6.1. Ahorro\, inversión y tasa de interés \n6.2. Inversión y demanda de trabajo \n6.3. Capital e inversión. \n  \n¡Nos encontramos en clase! \n 
URL:https://institutoacton.org/event/curso-economia-para-no-economistas/
ATTACH;FMTTYPE=image/png:https://institutoacton.org/wp-content/uploads/2020/06/los-fundamentos-cristianos-de-la-civilización-occidental-35.png
END:VEVENT
BEGIN:VEVENT
DTSTART;TZID=America/Argentina/Buenos_Aires:20200702T193000
DTEND;TZID=America/Argentina/Buenos_Aires:20200702T203000
DTSTAMP:20260421T223524
CREATED:20200701T184040Z
LAST-MODIFIED:20200701T184215Z
UID:28742-1593718200-1593721800@institutoacton.org
SUMMARY:Conversatorio: Esperando contra toda esperanza
DESCRIPTION:¡ESTE JUEVES!\nConversatorio para una sociedad libre y virtuosa desde el live de nuestro Facebook. \nESPERANDO CONTRA TODA ESPERANZA\nGustavo Irrazábal – Cecilia Vázquez Ger \nEste jueves a las 19:30 (hora de Argentina GTM-3) estaremos en vivo. \nSolo tenés que ingresar a nuestra página de Facebook \n¡Te esperamos!
URL:https://institutoacton.org/event/conversatorio-esperando-contra-toda-esperanza/
ATTACH;FMTTYPE=image/png:https://institutoacton.org/wp-content/uploads/2020/07/los-fundamentos-cristianos-de-la-civilización-occidental-36.png
END:VEVENT
BEGIN:VEVENT
DTSTART;TZID=America/Argentina/Buenos_Aires:20200709T183000
DTEND;TZID=America/Argentina/Buenos_Aires:20200709T193000
DTSTAMP:20260421T223524
CREATED:20200707T190742Z
LAST-MODIFIED:20200707T190742Z
UID:28760-1594319400-1594323000@institutoacton.org
SUMMARY:La dictadura de la pandemia
DESCRIPTION:¡NUEVO CONVERSATORIO! \nLos esperamos este jueves en nuestro Facebook live para hablar sobre un tema muy actual: \nLa dictadura de la pandemia \nGabriel Zanotti\, Ramón Parellada\, Ruy Martínez Allende y Cecilia Vázquez Ger \n¡Solo tenés que entrar a nuestro Facebook a la hora indicada! \nINGRESÁ A FACEBOOK AQUÍ. \n \n 
URL:https://institutoacton.org/event/la-dictadura-de-la-pandemia/
ATTACH;FMTTYPE=image/png:https://institutoacton.org/wp-content/uploads/2020/07/los-fundamentos-cristianos-de-la-civilización-occidental-37.png
END:VEVENT
BEGIN:VEVENT
DTSTART;TZID=America/Argentina/Buenos_Aires:20200714T180000
DTEND;TZID=America/Argentina/Buenos_Aires:20200714T180000
DTSTAMP:20260421T223524
CREATED:20200701T195334Z
LAST-MODIFIED:20200701T195714Z
UID:28750-1594749600-1594749600@institutoacton.org
SUMMARY:Pensar la filosofía
DESCRIPTION:RECOMENDAMOS ESTE EVENTO
URL:https://institutoacton.org/event/pensar-la-filosofia/
ATTACH;FMTTYPE=image/jpeg:https://institutoacton.org/wp-content/uploads/2020/07/ee9c459d-5de1-4545-87a1-36eb1927d896-e1593633307825.jpeg
END:VEVENT
BEGIN:VEVENT
DTSTART;TZID=America/Argentina/Buenos_Aires:20200723T183000
DTEND;TZID=America/Argentina/Buenos_Aires:20200723T193000
DTSTAMP:20260421T223524
CREATED:20200721T225506Z
LAST-MODIFIED:20200721T225555Z
UID:28766-1595529000-1595532600@institutoacton.org
SUMMARY:Conversatorio: "Un debate cultural: liberales clásicos\, libertarios y conservadores\, hoy"
DESCRIPTION:¡JUEVES 23 DE JULIO!\nConversatorio para una sociedad libre y virtuosa\ndesde el live de nuestro Facebook. \nUN DEBATE CULTURAL:\nLIBERALES CLÁSICOS\, LIBERTARIOS Y CONSERVADORES\, HOY\nUn diálogo entre\nAlejandro Chafuen\nMario Šilar\nCecilia Vázquez Ger \nEste jueves 23/7 a las 18:30 (hora de Argentina GTM-3) estaremos en vivo. \nSolo tenés que ingresar a nuestra página de Facebook \n¡Te esperamos!
URL:https://institutoacton.org/event/28766/
ATTACH;FMTTYPE=image/png:https://institutoacton.org/wp-content/uploads/2020/07/los-fundamentos-cristianos-de-la-civilización-occidental-38.png
END:VEVENT
BEGIN:VEVENT
DTSTART;TZID=America/Argentina/Buenos_Aires:20200907T183000
DTEND;TZID=America/Argentina/Buenos_Aires:20200907T193000
DTSTAMP:20260421T223524
CREATED:20200902T170906Z
LAST-MODIFIED:20200902T170906Z
UID:28885-1599503400-1599507000@institutoacton.org
SUMMARY:Conversatorio online: Católicos y evangélicos en diálogo por la libertad
DESCRIPTION:¡Nuevo conversatorio online! \nTe esperamos el lunes 7/9/20 en nuestro canal de Youtube para ver esta conversación entre \nGabriel Zanotti y Juan Callejas \n¡No te lo pierdas!
URL:https://institutoacton.org/event/conversatorio-online-catolicos-y-evangelicos-en-dialogo-por-la-libertad/
ATTACH;FMTTYPE=image/png:https://institutoacton.org/wp-content/uploads/2020/09/los-fundamentos-cristianos-de-la-civilización-occidental-40.png
END:VEVENT
BEGIN:VEVENT
DTSTART;TZID=America/Argentina/Buenos_Aires:20200915T183000
DTEND;TZID=America/Argentina/Buenos_Aires:20200915T203000
DTSTAMP:20260421T223524
CREATED:20200902T165330Z
LAST-MODIFIED:20200902T171006Z
UID:28878-1600194600-1600201800@institutoacton.org
SUMMARY:Razón y fe en la civilización occidental
DESCRIPTION:¡¡¡Estamos muy contentos de recibir al Dr. SAMUEL GREGG en la próxima Cátedra Acton!!! \nNuestro querido director académico\, el Prof. Gabriel Zanotti recibirá en este espacio al Dr. Samuel Gregg\, director de investigaciones del Acton Institute de Estados Unidos. \nSerá una conferencia sobre su último libro:\n«Razón y Fe en la Civilización Occidental» \n-El encuentro tendrá lugar en inglés- \n¡AGENDALO YA!\nMartes 15 de septiembre – 18:30 (hora de Argentina) \n \n¡Te esperamos! \n \n  \n 
URL:https://institutoacton.org/event/razon-y-fe-en-la-civilizacion-occidental/
ATTACH;FMTTYPE=image/png:https://institutoacton.org/wp-content/uploads/2020/09/los-fundamentos-cristianos-de-la-civilización-occidental-39.png
END:VEVENT
BEGIN:VEVENT
DTSTART;TZID=America/Argentina/Buenos_Aires:20200918T180000
DTEND;TZID=America/Argentina/Buenos_Aires:20200918T180000
DTSTAMP:20260421T223524
CREATED:20200916T202205Z
LAST-MODIFIED:20200916T204707Z
UID:28898-1600452000-1600452000@institutoacton.org
SUMMARY:¿Por qué rezar? - Actividad recomendada
DESCRIPTION:Recomendamos esta actividad organizada por Revista Criterio
URL:https://institutoacton.org/event/por-que-rezar-actividad-recomendada/
ATTACH;FMTTYPE=image/png:https://institutoacton.org/wp-content/uploads/2020/09/los-fundamentos-cristianos-de-la-civilización-occidental-41.png
END:VEVENT
BEGIN:VEVENT
DTSTART;TZID=America/Argentina/Buenos_Aires:20200924T183000
DTEND;TZID=America/Argentina/Buenos_Aires:20200924T193000
DTSTAMP:20260421T223524
CREATED:20200922T145230Z
LAST-MODIFIED:20200922T145230Z
UID:28919-1600972200-1600975800@institutoacton.org
SUMMARY:CONVERSATORIO: Pobreza e inflación
DESCRIPTION:¡Los esperamos en el próximo conversatorio online para una sociedad libre y virtuosa! \nPOBREZA E INFLACIÓN \nLuis Giorgio\nHéctor Mario Rodríguez\nCecilia Vázquez Ger \nJUEVES 24 DE SEPTIEMBRE\n18:30 (hora de Argentina) \nSOLO TENÉS QUE INGRESAR A NUESTRO CANAL DE YOUTUBE. \n \n 
URL:https://institutoacton.org/event/conversatorio-pobreza-e-inflacion/
ATTACH;FMTTYPE=image/png:https://institutoacton.org/wp-content/uploads/2020/09/los-fundamentos-cristianos-de-la-civilización-occidental-42.png
END:VEVENT
BEGIN:VEVENT
DTSTART;TZID=America/Argentina/Buenos_Aires:20200924T183000
DTEND;TZID=America/Argentina/Buenos_Aires:20201016T170000
DTSTAMP:20260421T223524
CREATED:20201005T212730Z
LAST-MODIFIED:20201005T213502Z
UID:28945-1600972200-1602867600@institutoacton.org
SUMMARY:Del drama de la pobreza al desarrollo humano integral
DESCRIPTION:Octubre en el Instituto Acton\, un mes dedicado 100% al tema POBREZA:\n«DEL DRAMA DE LA POBREZA AL DESARROLLO HUMANO INTEGRAL» \n¡Mirá todas las actividades que tenemos para vos! \nSeguinos en nuestro canal de Youtube: https://www.youtube.com/user/ActonArgentina/featured
URL:https://institutoacton.org/event/del-drama-de-la-pobreza-al-desarrollo-humano-integral/
ATTACH;FMTTYPE=image/png:https://institutoacton.org/wp-content/uploads/2019/10/0.-SLIDER.png
END:VEVENT
BEGIN:VEVENT
DTSTART;TZID=America/Argentina/Buenos_Aires:20200929T183000
DTEND;TZID=America/Argentina/Buenos_Aires:20200929T193000
DTSTAMP:20260421T223524
CREATED:20200916T204326Z
LAST-MODIFIED:20200916T204326Z
UID:28906-1601404200-1601407800@institutoacton.org
SUMMARY:Introducción a la moral económica - Presentación de libro
DESCRIPTION:Te invitamos especialmente a la presentación del último libro del padre Gustavo Irrazábal. \nSolo tenés que conectarte a nuestro canal de Youtube el 29/9 a las 18:30. \n¡Te esperamos!
URL:https://institutoacton.org/event/introduccion-a-la-moral-economica-presentacion-de-libro/
ATTACH;FMTTYPE=image/jpeg:https://institutoacton.org/wp-content/uploads/2020/09/TAPA-Introduccion-a-la-Moral-economica_page-0001-e1600288962403.jpg
END:VEVENT
BEGIN:VEVENT
DTSTART;TZID=America/Argentina/Buenos_Aires:20201005T190000
DTEND;TZID=America/Argentina/Buenos_Aires:20201005T203000
DTSTAMP:20260421T223524
CREATED:20200916T203518Z
LAST-MODIFIED:20201014T191625Z
UID:28902-1601924400-1601929800@institutoacton.org
SUMMARY:Del Génesis a Jesús - Curso recomendado
DESCRIPTION:Recomendamos este curso dictado por Luisa Zorraquín y el padre Patricio Etchepareborda. \nPara inscripciones escribir a cursosbiblicosbsas@gmail.com.
URL:https://institutoacton.org/event/del-genesis-a-jesus-curso-recomendado/
ATTACH;FMTTYPE=image/jpeg:https://institutoacton.org/wp-content/uploads/2020/09/web-e1600288508160.jpg
END:VEVENT
BEGIN:VEVENT
DTSTART;TZID=America/Argentina/Buenos_Aires:20201006T183000
DTEND;TZID=America/Argentina/Buenos_Aires:20201006T193000
DTSTAMP:20260421T223524
CREATED:20201005T213406Z
LAST-MODIFIED:20201005T213406Z
UID:28947-1602009000-1602012600@institutoacton.org
SUMMARY:Pobreza y la crisis de liderazgo en la Argentina que soñamos
DESCRIPTION:Conversatorio online desde nuestro canal de YOUTUBE. \n«Pobreza y crisis de liderazgo en la Argentina que soñamos»\nAldo Abram\nGabriel Zanotti\nCecilia Vázquez Ger \nMartes 6/10 a las 18:30 (hora de Argentina) estaremos en vivo. \nSolo tenés que ingresar a nuestro canal de YOUTUBE \n¡Te esperamos!
URL:https://institutoacton.org/event/pobreza-y-la-crisis-de-liderazgo-en-la-argentina-que-sonamos/
ATTACH;FMTTYPE=image/png:https://institutoacton.org/wp-content/uploads/2020/10/los-fundamentos-cristianos-de-la-civilización-occidental-43.png
END:VEVENT
BEGIN:VEVENT
DTSTART;TZID=America/Argentina/Buenos_Aires:20201020T183000
DTEND;TZID=America/Argentina/Buenos_Aires:20201020T200000
DTSTAMP:20260421T223524
CREATED:20201014T191520Z
LAST-MODIFIED:20201014T191520Z
UID:28962-1603218600-1603224000@institutoacton.org
SUMMARY:Pobreza y empresarialidad
DESCRIPTION:  \nConversatorio online desde nuestro canal de YOUTUBE. \n«Pobreza y empresarialidad»\nSebastián Landoni\nIvo Sarjanovic\nCecilia Vázquez Ger \nMartes 20/10 a las 18:30 (hora de Argentina) estaremos en vivo. \nSolo tenés que ingresar a nuestro canal de YOUTUBE \n¡Te esperamos!
URL:https://institutoacton.org/event/pobreza-y-empresarialidad/
ATTACH;FMTTYPE=image/png:https://institutoacton.org/wp-content/uploads/2020/10/los-fundamentos-cristianos-de-la-civilización-occidental-44.png
END:VEVENT
BEGIN:VEVENT
DTSTART;TZID=America/Argentina/Buenos_Aires:20201022T180000
DTEND;TZID=America/Argentina/Buenos_Aires:20201022T180000
DTSTAMP:20260421T223524
CREATED:20201022T151212Z
LAST-MODIFIED:20201022T151244Z
UID:29005-1603389600-1603389600@institutoacton.org
SUMMARY:Los nudos argentinos
DESCRIPTION:  \nRecomendamos esta actividad organizada por Criterio
URL:https://institutoacton.org/event/los-nudos-argentinos/
ATTACH;FMTTYPE=image/png:https://institutoacton.org/wp-content/uploads/2020/10/image-1-e1603379507541.png
END:VEVENT
BEGIN:VEVENT
DTSTART;TZID=America/Argentina/Buenos_Aires:20201027T183000
DTEND;TZID=America/Argentina/Buenos_Aires:20201027T200000
DTSTAMP:20260421T223524
CREATED:20201014T192334Z
LAST-MODIFIED:20201014T192334Z
UID:28972-1603823400-1603828800@institutoacton.org
SUMMARY:Pobreza\, pueblo y populismo
DESCRIPTION:Conversatorio online desde nuestro canal de YOUTUBE. \n«Pobreza\, pueblo y populismo»\nAlejandra Salinas\nGustavo Irrazábal\nCecilia Vázquez Ger \nMartes 27/10 a las 18:30 (hora de Argentina) estaremos en vivo. \nSolo tenés que ingresar a nuestro canal de YOUTUBE \n¡Te esperamos!
URL:https://institutoacton.org/event/pobreza-pueblo-y-populismo/
ATTACH;FMTTYPE=image/png:https://institutoacton.org/wp-content/uploads/2020/10/los-fundamentos-cristianos-de-la-civilización-occidental-46.png
END:VEVENT
BEGIN:VEVENT
DTSTART;TZID=America/Argentina/Buenos_Aires:20201028T183000
DTEND;TZID=America/Argentina/Buenos_Aires:20201028T200000
DTSTAMP:20260421T223524
CREATED:20201014T192017Z
LAST-MODIFIED:20201014T192118Z
UID:28968-1603909800-1603915200@institutoacton.org
SUMMARY:Pobreza y desigualdad
DESCRIPTION:Conversatorio online desde nuestro canal de YOUTUBE. \n«Pobreza y desigualdad»\nGustavo Hasperué\nOsvaldo Schenone\nCecilia Vázquez Ger \nMiércoles 28/10 a las 18:30 (hora de Argentina) estaremos en vivo. \nSolo tenés que ingresar a nuestro canal de YOUTUBE \n¡Te esperamos!
URL:https://institutoacton.org/event/28968/
ATTACH;FMTTYPE=image/png:https://institutoacton.org/wp-content/uploads/2020/10/los-fundamentos-cristianos-de-la-civilización-occidental-45.png
END:VEVENT
BEGIN:VEVENT
DTSTART;TZID=America/Argentina/Buenos_Aires:20201110T183000
DTEND;TZID=America/Argentina/Buenos_Aires:20201112T200000
DTSTAMP:20260421T223524
CREATED:20201110T125303Z
LAST-MODIFIED:20201110T125303Z
UID:29166-1605033000-1605211200@institutoacton.org
SUMMARY:CICLO DE PRESENTACIONES POVERTYCURE
DESCRIPTION:¡En noviembre continuamos reflexionando sobre la pobreza y el desarrollo humano integral! \nNo te pierdas este ciclo de presentaciones de la serie POVERTYCURE \nINSCRIBITE \nMARTES 10 DE NOVIEMBRE – 18:30 (ART)\nEpisodio 3: Justicia para los pobres\nUn enfoque superador de la pobreza desde el marco jurídico.\nAcompañan Cecilia Vázquez Ger y jóvenes profesionales del grupo Acton Joven. \nJUEVES 12 DE NOVIEMBRE – 18:30 (ART)\nEpisodio 4: Círculos de intercambio\nUn enfoque superador de la pobreza desde la mirada económica\nAcompañan Cecilia Vázquez Ger\, Gustavo Hasperué y jóvenes profesionales del grupo Acton Joven. \nLos encuentros serán por ZOOM. \nINSCRIBITE
URL:https://institutoacton.org/event/ciclo-de-presentaciones-povertycure/
ATTACH;FMTTYPE=image/png:https://institutoacton.org/wp-content/uploads/2020/11/los-fundamentos-cristianos-de-la-civilización-occidental-47.png
END:VEVENT
BEGIN:VEVENT
DTSTART;TZID=America/Argentina/Buenos_Aires:20201124T183000
DTEND;TZID=America/Argentina/Buenos_Aires:20201124T203000
DTSTAMP:20260421T223524
CREATED:20201123T200800Z
LAST-MODIFIED:20201124T170753Z
UID:29186-1606242600-1606249800@institutoacton.org
SUMMARY:Cátedra Acton
DESCRIPTION:¡No te pierdas la última Cátedra Acton del año! \nRazones para la decadencia de Occidente: neomarxismo y posmodernismo \nCon el Prof. Gabriel Zanotti. \nMartes 24/11 – 18:30 (hora argentina) \nINSCRIBITE AQUÍ \nDatos para el ingreso al Zoom: \nhttps://us02web.zoom.us/j/85198791574?pwd=R295dDZzeVd6enVObncrN1NOOGp1UT09\nID de reunión: 851 9879 1574\nCódigo de acceso: 735301 \n¡Te esperamos!
URL:https://institutoacton.org/event/catedra-acton/
ATTACH;FMTTYPE=image/png:https://institutoacton.org/wp-content/uploads/2020/11/los-fundamentos-cristianos-de-la-civilización-occidental-48.png
END:VEVENT
BEGIN:VEVENT
DTSTART;TZID=America/Argentina/Buenos_Aires:20210223T190000
DTEND;TZID=America/Argentina/Buenos_Aires:20210223T203000
DTSTAMP:20260421T223524
CREATED:20210210T203142Z
LAST-MODIFIED:20210210T203142Z
UID:29302-1614106800-1614112200@institutoacton.org
SUMMARY:Presentación del libro "En defensa del libre mercado"
DESCRIPTION:¡Arrancamos el 2021 con una actividad imperdible! \nRecibiremos al Rev. Robert Sirico\, cofundador del Acton Institute\, quien presentará su libro\nEN DEFENSA DEL LIBRE MERCADO \nPara agendar:\nMartes 23 de febrero – 19:00 (hora argentina) \nLos primeros 100 inscriptos ingresarán al Zoom. También transmitiremos por Youtube Live para que nadie se lo pierda. \n¡INSCRIBITE AHORA! \nEl encuentro será en inglés con traducción al español.\nAdemás\, acompañarán la presentación Mario Šilar y Cecilia Vázquez Ger \n¡Te esperamos! \n¡Compartí este evento! \n \n 
URL:https://institutoacton.org/event/presentacion-del-libro-en-defensa-del-libre-mercado/
ATTACH;FMTTYPE=image/png:https://institutoacton.org/wp-content/uploads/2021/02/los-fundamentos-cristianos-de-la-civilización-occidental-51.png
END:VEVENT
END:VCALENDAR