BEGIN:VCALENDAR
VERSION:2.0
PRODID:-//Instituto Acton - ECPv6.15.14//NONSGML v1.0//EN
CALSCALE:GREGORIAN
METHOD:PUBLISH
X-WR-CALNAME:Instituto Acton
X-ORIGINAL-URL:https://institutoacton.org
X-WR-CALDESC:Eventos para Instituto Acton
REFRESH-INTERVAL;VALUE=DURATION:PT1H
X-Robots-Tag:noindex
X-PUBLISHED-TTL:PT1H
BEGIN:VTIMEZONE
TZID:America/Argentina/Buenos_Aires
BEGIN:STANDARD
TZOFFSETFROM:-0300
TZOFFSETTO:-0300
TZNAME:-03
DTSTART:20190101T000000
END:STANDARD
END:VTIMEZONE
BEGIN:VEVENT
DTSTART;TZID=America/Argentina/Buenos_Aires:20200310T190000
DTEND;TZID=America/Argentina/Buenos_Aires:20200310T190000
DTSTAMP:20260421T075446
CREATED:20200211T190033Z
LAST-MODIFIED:20200219T213412Z
UID:28350-1583866800-1583866800@institutoacton.org
SUMMARY:EVENTO RECOMENDADO: Presentación del libro "En desequilibrio"
DESCRIPTION:Recomendamos esta presentación del libro \nEn desequilibrio\nEnsayos sobre procesos de mercado \nPresentado por su autor: Ivo Sarjanovic \nComentado por Gabriel Zanotti e Iván Carrino \n \nEn desequilibrio es una colección de ensayos que buscan determinar\, desde la perspectiva de la Escuela Austriaca de Economía\, si existe o no una tendencia en el mercado libre a alcanzar un estado de equilibrio general. Su autor\, Ivo A. Sarjanovic\, analiza detalladamente la evolución del debate entre Israel Kirzner\, Ludwig Lachmann y sus respectivos seguidores desde sus inicios en la década del 70 del siglo XX hasta nuestros días. \nDesde un enfoque de procesos de mercado\, se examinan tanto el rol del empresario y su crucial impacto en el surgimiento de los precios y otras instituciones\, como el efecto que tiene una moneda en desequilibrio natural\, por causas endógenas al mercado\, en el funcionamiento de la economía. Además\, uno de los ensayos presenta un nuevo aporte empírico al aplicar la teoría austriaca al estudio de los mercados de commodities agrícolas. \nCon su propuesta en el campo de la epistemología\, el autor sugiere integrar las contribuciones de Karl Popper con el objetivo de poder elaborar una metodología más robusta. En este sentido\, Sarjanovic procura hacer el esfuerzo de abandonar toda forma de dogmatismo\, postura que afecta incluso a algunas vertientes de la Escuela Austriaca\, y abrazar más que nunca la ética y la práctica del racionalismo crítico.
URL:https://institutoacton.org/event/presentacion-del-libro-en-desequilibrio-ensayos-sobre-procesos-de-mercado-ivo-sarjonovic/
LOCATION:ESEADE\, Uriarte 2472\, Buenos Aires\, C1425FNJ\, Argentina
ATTACH;FMTTYPE=image/jpeg:https://institutoacton.org/wp-content/uploads/2020/02/Boceto-Tapa_BLBM-40-Sarjanovic_page-0001.jpg
END:VEVENT
BEGIN:VEVENT
DTSTART;TZID=America/Argentina/Buenos_Aires:20200317T183000
DTEND;TZID=America/Argentina/Buenos_Aires:20200317T183000
DTSTAMP:20260421T075446
CREATED:20200219T182016Z
LAST-MODIFIED:20200219T213531Z
UID:28381-1584469800-1584469800@institutoacton.org
SUMMARY:Solzhenitsyn y la revolución
DESCRIPTION:
URL:https://institutoacton.org/event/solzhenitsyn-y-la-revolucion/
LOCATION:Universidad Austral\, Cerrito 1250\, Buenos Aires\, Argentina
ATTACH;FMTTYPE=image/jpeg:https://institutoacton.org/wp-content/uploads/2020/02/SolzhenitsynGA123-770x433.jpg
END:VEVENT
BEGIN:VEVENT
DTSTART;TZID=America/Argentina/Buenos_Aires:20200331T183000
DTEND;TZID=America/Argentina/Buenos_Aires:20200331T183000
DTSTAMP:20260421T075446
CREATED:20200219T200941Z
LAST-MODIFIED:20200219T201229Z
UID:28399-1585679400-1585679400@institutoacton.org
SUMMARY:"Vivir en la presencia del Señor": una aproximación a la vida y espiritualidad de J. H. Newman
DESCRIPTION:  \n \n  \n \n  \n  \n  \n 
URL:https://institutoacton.org/event/vivir-en-la-presencia-del-senor-una-aproximacion-a-la-vida-y-espiritualidad-de-j-h-newman/
LOCATION:Universidad Austral\, Cerrito 1250\, Buenos Aires\, Argentina
ATTACH;FMTTYPE=image/jpeg:https://institutoacton.org/wp-content/uploads/2019/07/newman.jpg
END:VEVENT
END:VCALENDAR